BEGIN:VCALENDAR
VERSION:2.0
PRODID:-//Flint Hill Volunteer Fire Co. Inc. - ECPv6.15.17.1//NONSGML v1.0//EN
CALSCALE:GREGORIAN
METHOD:PUBLISH
X-WR-CALNAME:Flint Hill Volunteer Fire Co. Inc.
X-ORIGINAL-URL:https://flinthillfireva.com
X-WR-CALDESC:Events for Flint Hill Volunteer Fire Co. Inc.
REFRESH-INTERVAL;VALUE=DURATION:PT1H
X-Robots-Tag:noindex
X-PUBLISHED-TTL:PT1H
BEGIN:VTIMEZONE
TZID:America/New_York
BEGIN:DAYLIGHT
TZOFFSETFROM:-0500
TZOFFSETTO:-0400
TZNAME:EDT
DTSTART:20250309T070000
END:DAYLIGHT
BEGIN:STANDARD
TZOFFSETFROM:-0400
TZOFFSETTO:-0500
TZNAME:EST
DTSTART:20251102T060000
END:STANDARD
BEGIN:DAYLIGHT
TZOFFSETFROM:-0500
TZOFFSETTO:-0400
TZNAME:EDT
DTSTART:20260308T070000
END:DAYLIGHT
BEGIN:STANDARD
TZOFFSETFROM:-0400
TZOFFSETTO:-0500
TZNAME:EST
DTSTART:20261101T060000
END:STANDARD
BEGIN:DAYLIGHT
TZOFFSETFROM:-0500
TZOFFSETTO:-0400
TZNAME:EDT
DTSTART:20270314T070000
END:DAYLIGHT
BEGIN:STANDARD
TZOFFSETFROM:-0400
TZOFFSETTO:-0500
TZNAME:EST
DTSTART:20271107T060000
END:STANDARD
END:VTIMEZONE
BEGIN:VEVENT
DTSTART;TZID=America/New_York:20260502T080000
DTEND;TZID=America/New_York:20260502T103000
DTSTAMP:20260421T012532
CREATED:20260411T132516Z
LAST-MODIFIED:20260411T132516Z
UID:1054-1777708800-1777717800@flinthillfireva.com
SUMMARY:Company 4 Membership Meeting
DESCRIPTION:8:00 – Board of Directors Meeting \n9:00 – Membership Meeting
URL:https://flinthillfireva.com/event/company-4-membership-meeting/
CATEGORIES:MONTHLY BOARD MEETING,MONTHLY MEMBERSHIP MEETING
ORGANIZER;CN="FHVFC":MAILTO:fhvfr@comcast.net
END:VEVENT
BEGIN:VEVENT
DTSTART;TZID=America/New_York:20260606T080000
DTEND;TZID=America/New_York:20260606T103000
DTSTAMP:20260421T012532
CREATED:20260411T132631Z
LAST-MODIFIED:20260411T132631Z
UID:1056-1780732800-1780741800@flinthillfireva.com
SUMMARY:Company 4 Membership Meeting
DESCRIPTION:8:00 – Board of Directors Meeting \n9:00 – Membership Meeting
URL:https://flinthillfireva.com/event/company-4-membership-meeting-2/
CATEGORIES:MONTHLY BOARD MEETING,MONTHLY MEMBERSHIP MEETING
END:VEVENT
BEGIN:VEVENT
DTSTART;TZID=America/New_York:20260711T080000
DTEND;TZID=America/New_York:20260711T103000
DTSTAMP:20260421T012532
CREATED:20260411T132728Z
LAST-MODIFIED:20260411T132728Z
UID:1058-1783756800-1783765800@flinthillfireva.com
SUMMARY:Company 4 Membership Meeting
DESCRIPTION:8:00 – Board of Directors Meeting \n9:00 – Membership Meeting
URL:https://flinthillfireva.com/event/company-4-membership-meeting-3/
CATEGORIES:MONTHLY BOARD MEETING,MONTHLY MEMBERSHIP MEETING
END:VEVENT
BEGIN:VEVENT
DTSTART;TZID=America/New_York:20260801T080000
DTEND;TZID=America/New_York:20260801T103000
DTSTAMP:20260421T012532
CREATED:20260411T132818Z
LAST-MODIFIED:20260411T132818Z
UID:1060-1785571200-1785580200@flinthillfireva.com
SUMMARY:Company 4 Membership Meeting
DESCRIPTION:8:00 – Board of Directors Meeting \n9:00 – Membership Meeting
URL:https://flinthillfireva.com/event/company-4-membership-meeting-4/
CATEGORIES:MONTHLY BOARD MEETING,MONTHLY MEMBERSHIP MEETING
END:VEVENT
BEGIN:VEVENT
DTSTART;TZID=America/New_York:20260912T080000
DTEND;TZID=America/New_York:20260912T103000
DTSTAMP:20260421T012532
CREATED:20260411T132901Z
LAST-MODIFIED:20260411T132901Z
UID:1062-1789200000-1789209000@flinthillfireva.com
SUMMARY:Company 4 Membership Meeting
DESCRIPTION:8:00 – Board of Directors Meeting \n9:00 – Membership Meeting
URL:https://flinthillfireva.com/event/company-4-membership-meeting-5/
CATEGORIES:MONTHLY BOARD MEETING,MONTHLY MEMBERSHIP MEETING
END:VEVENT
BEGIN:VEVENT
DTSTART;TZID=America/New_York:20261003T080000
DTEND;TZID=America/New_York:20261003T103000
DTSTAMP:20260421T012532
CREATED:20260411T133025Z
LAST-MODIFIED:20260411T133025Z
UID:1064-1791014400-1791023400@flinthillfireva.com
SUMMARY:Company 4 Membership Meeting
DESCRIPTION:8:00 – Board of Directors Meeting \n9:00 – Membership Meeting
URL:https://flinthillfireva.com/event/company-4-membership-meeting-6/
CATEGORIES:MONTHLY BOARD MEETING,MONTHLY MEMBERSHIP MEETING
END:VEVENT
BEGIN:VEVENT
DTSTART;TZID=America/New_York:20261107T080000
DTEND;TZID=America/New_York:20261107T103000
DTSTAMP:20260421T012532
CREATED:20260411T133111Z
LAST-MODIFIED:20260411T133111Z
UID:1066-1794038400-1794047400@flinthillfireva.com
SUMMARY:Company 4 Membership Meeting
DESCRIPTION:8:00 – Board of Directors Meeting \n9:00 – Membership Meeting
URL:https://flinthillfireva.com/event/company-4-membership-meeting-7/
CATEGORIES:MONTHLY BOARD MEETING,MONTHLY MEMBERSHIP MEETING
END:VEVENT
BEGIN:VEVENT
DTSTART;TZID=America/New_York:20261205T080000
DTEND;TZID=America/New_York:20261205T103000
DTSTAMP:20260421T012532
CREATED:20260411T133213Z
LAST-MODIFIED:20260411T133213Z
UID:1068-1796457600-1796466600@flinthillfireva.com
SUMMARY:Company 4 Membership Meeting
DESCRIPTION:8:00 – Board of Directors Meeting \n9:00 – Membership Meeting
URL:https://flinthillfireva.com/event/company-4-membership-meeting-8/
CATEGORIES:MONTHLY BOARD MEETING,MONTHLY MEMBERSHIP MEETING
END:VEVENT
END:VCALENDAR