BEGIN:VCALENDAR
VERSION:2.0
PRODID:-//Flint Hill Volunteer Fire Co. Inc. - ECPv6.15.17.1//NONSGML v1.0//EN
CALSCALE:GREGORIAN
METHOD:PUBLISH
X-WR-CALNAME:Flint Hill Volunteer Fire Co. Inc.
X-ORIGINAL-URL:https://flinthillfireva.com
X-WR-CALDESC:Events for Flint Hill Volunteer Fire Co. Inc.
REFRESH-INTERVAL;VALUE=DURATION:PT1H
X-Robots-Tag:noindex
X-PUBLISHED-TTL:PT1H
BEGIN:VTIMEZONE
TZID:UTC
BEGIN:STANDARD
TZOFFSETFROM:+0000
TZOFFSETTO:+0000
TZNAME:UTC
DTSTART:20240101T000000
END:STANDARD
END:VTIMEZONE
BEGIN:VEVENT
DTSTART;TZID=UTC:20250108T190000
DTEND;TZID=UTC:20250108T200000
DTSTAMP:20260421T145331
CREATED:20241105T201151Z
LAST-MODIFIED:20241105T201419Z
UID:774-1736362800-1736366400@flinthillfireva.com
SUMMARY:Flint Hill Fire & Rescue Monthly Meeting
DESCRIPTION:
URL:https://flinthillfireva.com/event/flint-hill-fire-rescue-monthly-meeting/
LOCATION:FHVRC Fire Hall\, 945 Fodderstack Road Flint Hill\, VA 22627\, Flint Hill\, VA\, 22647
CATEGORIES:MONTHLY MEMBERSHIP MEETING
ATTACH;FMTTYPE=image/jpeg:https://flinthillfireva.com/wp-content/uploads/2024/09/FHFRC.jpg
ORGANIZER;CN="FHVFC":MAILTO:fhvfr@comcast.net
END:VEVENT
BEGIN:VEVENT
DTSTART;VALUE=DATE:20250125
DTEND;VALUE=DATE:20250126
DTSTAMP:20260421T145331
CREATED:20241209T224712Z
LAST-MODIFIED:20241209T224712Z
UID:825-1737763200-1737849599@flinthillfireva.com
SUMMARY:Fire Hall Booked
DESCRIPTION:
URL:https://flinthillfireva.com/event/fire-hall-booked/
LOCATION:FHVRC Fire Hall\, 945 Fodderstack Road Flint Hill\, VA 22627\, Flint Hill\, VA\, 22647
END:VEVENT
END:VCALENDAR