BEGIN:VCALENDAR
VERSION:2.0
PRODID:-//Flint Hill Volunteer Fire Co. Inc. - ECPv6.15.17.1//NONSGML v1.0//EN
CALSCALE:GREGORIAN
METHOD:PUBLISH
X-ORIGINAL-URL:https://flinthillfireva.com
X-WR-CALDESC:Events for Flint Hill Volunteer Fire Co. Inc.
REFRESH-INTERVAL;VALUE=DURATION:PT1H
X-Robots-Tag:noindex
X-PUBLISHED-TTL:PT1H
BEGIN:VTIMEZONE
TZID:UTC
BEGIN:STANDARD
TZOFFSETFROM:+0000
TZOFFSETTO:+0000
TZNAME:UTC
DTSTART:20240101T000000
END:STANDARD
END:VTIMEZONE
BEGIN:VEVENT
DTSTART;TZID=UTC:20250601T140000
DTEND;TZID=UTC:20250601T170000
DTSTAMP:20260421T071414
CREATED:20250505T154656Z
LAST-MODIFIED:20250505T154656Z
UID:902-1748786400-1748797200@flinthillfireva.com
SUMMARY:Fire Hall Booked - Shelby Party
DESCRIPTION:
URL:https://flinthillfireva.com/event/fire-hall-booked-shelby-party/
END:VEVENT
BEGIN:VEVENT
DTSTART;VALUE=DATE:20250608
DTEND;VALUE=DATE:20250614
DTSTAMP:20260421T071414
CREATED:20250527T161705Z
LAST-MODIFIED:20250527T161705Z
UID:908-1749340800-1749859199@flinthillfireva.com
SUMMARY:Camp Meeting
DESCRIPTION:
URL:https://flinthillfireva.com/event/camp-meeting/
END:VEVENT
BEGIN:VEVENT
DTSTART;VALUE=DATE:20250616
DTEND;VALUE=DATE:20250618
DTSTAMP:20260421T071414
CREATED:20250519T183608Z
LAST-MODIFIED:20250519T183608Z
UID:906-1750032000-1750204799@flinthillfireva.com
SUMMARY:Primary Election
DESCRIPTION:
URL:https://flinthillfireva.com/event/primary-election/
END:VEVENT
END:VCALENDAR