BEGIN:VCALENDAR
VERSION:2.0
PRODID:-//Flint Hill Volunteer Fire Co. Inc. - ECPv6.15.17.1//NONSGML v1.0//EN
CALSCALE:GREGORIAN
METHOD:PUBLISH
X-WR-CALNAME:Flint Hill Volunteer Fire Co. Inc.
X-ORIGINAL-URL:https://flinthillfireva.com
X-WR-CALDESC:Events for Flint Hill Volunteer Fire Co. Inc.
REFRESH-INTERVAL;VALUE=DURATION:PT1H
X-Robots-Tag:noindex
X-PUBLISHED-TTL:PT1H
BEGIN:VTIMEZONE
TZID:America/New_York
BEGIN:DAYLIGHT
TZOFFSETFROM:-0500
TZOFFSETTO:-0400
TZNAME:EDT
DTSTART:20250309T070000
END:DAYLIGHT
BEGIN:STANDARD
TZOFFSETFROM:-0400
TZOFFSETTO:-0500
TZNAME:EST
DTSTART:20251102T060000
END:STANDARD
BEGIN:DAYLIGHT
TZOFFSETFROM:-0500
TZOFFSETTO:-0400
TZNAME:EDT
DTSTART:20260308T070000
END:DAYLIGHT
BEGIN:STANDARD
TZOFFSETFROM:-0400
TZOFFSETTO:-0500
TZNAME:EST
DTSTART:20261101T060000
END:STANDARD
BEGIN:DAYLIGHT
TZOFFSETFROM:-0500
TZOFFSETTO:-0400
TZNAME:EDT
DTSTART:20270314T070000
END:DAYLIGHT
BEGIN:STANDARD
TZOFFSETFROM:-0400
TZOFFSETTO:-0500
TZNAME:EST
DTSTART:20271107T060000
END:STANDARD
END:VTIMEZONE
BEGIN:VEVENT
DTSTART;TZID=America/New_York:20260307T100000
DTEND;TZID=America/New_York:20260307T130000
DTSTAMP:20260420T062247
CREATED:20260203T125041Z
LAST-MODIFIED:20260203T125041Z
UID:1024-1772877600-1772888400@flinthillfireva.com
SUMMARY:Private Party
DESCRIPTION:
URL:https://flinthillfireva.com/event/private-party/
END:VEVENT
BEGIN:VEVENT
DTSTART;TZID=America/New_York:20260313T113000
DTEND;TZID=America/New_York:20260313T140000
DTSTAMP:20260420T062247
CREATED:20260311T145523Z
LAST-MODIFIED:20260311T145523Z
UID:1051-1773401400-1773410400@flinthillfireva.com
SUMMARY:Sign meeting
DESCRIPTION:
URL:https://flinthillfireva.com/event/sign-meeting/
END:VEVENT
BEGIN:VEVENT
DTSTART;VALUE=DATE:20260321
DTEND;VALUE=DATE:20260322
DTSTAMP:20260420T062247
CREATED:20260225T124706Z
LAST-MODIFIED:20260225T124706Z
UID:1041-1774051200-1774137599@flinthillfireva.com
SUMMARY:Dawn Dodson booking
DESCRIPTION:
URL:https://flinthillfireva.com/event/dawn-dodson-booking/
END:VEVENT
BEGIN:VEVENT
DTSTART;TZID=America/New_York:20260328T080000
DTEND;TZID=America/New_York:20260328T120000
DTSTAMP:20260420T062247
CREATED:20260304T154037Z
LAST-MODIFIED:20260304T154037Z
UID:1043-1774684800-1774699200@flinthillfireva.com
SUMMARY:Diane Carter - Yoga Class
DESCRIPTION:
URL:https://flinthillfireva.com/event/diane-carter-yoga-class/
END:VEVENT
END:VCALENDAR