BEGIN:VCALENDAR
VERSION:2.0
PRODID:-//Flint Hill Volunteer Fire Co. Inc. - ECPv6.15.17.1//NONSGML v1.0//EN
CALSCALE:GREGORIAN
METHOD:PUBLISH
X-ORIGINAL-URL:https://flinthillfireva.com
X-WR-CALDESC:Events for Flint Hill Volunteer Fire Co. Inc.
REFRESH-INTERVAL;VALUE=DURATION:PT1H
X-Robots-Tag:noindex
X-PUBLISHED-TTL:PT1H
BEGIN:VTIMEZONE
TZID:America/New_York
BEGIN:DAYLIGHT
TZOFFSETFROM:-0500
TZOFFSETTO:-0400
TZNAME:EDT
DTSTART:20250309T070000
END:DAYLIGHT
BEGIN:STANDARD
TZOFFSETFROM:-0400
TZOFFSETTO:-0500
TZNAME:EST
DTSTART:20251102T060000
END:STANDARD
BEGIN:DAYLIGHT
TZOFFSETFROM:-0500
TZOFFSETTO:-0400
TZNAME:EDT
DTSTART:20260308T070000
END:DAYLIGHT
BEGIN:STANDARD
TZOFFSETFROM:-0400
TZOFFSETTO:-0500
TZNAME:EST
DTSTART:20261101T060000
END:STANDARD
BEGIN:DAYLIGHT
TZOFFSETFROM:-0500
TZOFFSETTO:-0400
TZNAME:EDT
DTSTART:20270314T070000
END:DAYLIGHT
BEGIN:STANDARD
TZOFFSETFROM:-0400
TZOFFSETTO:-0500
TZNAME:EST
DTSTART:20271107T060000
END:STANDARD
END:VTIMEZONE
BEGIN:VEVENT
DTSTART;TZID=America/New_York:20260502T080000
DTEND;TZID=America/New_York:20260502T103000
DTSTAMP:20260420T090037
CREATED:20260411T132516Z
LAST-MODIFIED:20260411T132516Z
UID:1054-1777708800-1777717800@flinthillfireva.com
SUMMARY:Company 4 Membership Meeting
DESCRIPTION:8:00 – Board of Directors Meeting \n9:00 – Membership Meeting
URL:https://flinthillfireva.com/event/company-4-membership-meeting/
CATEGORIES:MONTHLY BOARD MEETING,MONTHLY MEMBERSHIP MEETING
ORGANIZER;CN="FHVFC":MAILTO:fhvfr@comcast.net
END:VEVENT
BEGIN:VEVENT
DTSTART;VALUE=DATE:20260523
DTEND;VALUE=DATE:20260524
DTSTAMP:20260420T090037
CREATED:20260309T120021Z
LAST-MODIFIED:20260309T120021Z
UID:1049-1779494400-1779580799@flinthillfireva.com
SUMMARY:Pat Grigsby Birthday
DESCRIPTION:
URL:https://flinthillfireva.com/event/pat-grigsby-birthday/
END:VEVENT
END:VCALENDAR